{
 "currentVersion": 10.11,
 "serviceDescription": "Background/CatastoImpianto",
 "name": "Background/CatastoImpianto",
 "description": "Background/CatastoImpianto",
 "extent": {
  "xmin": 494382.83364768786,
  "ymin": 4409764.91267182,
  "xmax": 800070.7019800352,
  "ymax": 4683797.957030918,
  "spatialReference": {
   "wkid": 32633,
   "latestWkid": 32633
  }
 },
 "initialExtent": {
  "xmin": 494382.83364768786,
  "ymin": 4409764.91267182,
  "xmax": 800070.7019800352,
  "ymax": 4683797.957030918,
  "spatialReference": {
   "wkid": 32633,
   "latestWkid": 32633
  }
 },
 "fullExtent": {
  "xmin": 494382.83364768786,
  "ymin": 4409764.91267182,
  "xmax": 800070.7019800352,
  "ymax": 4683797.957030918,
  "spatialReference": {
   "wkid": 32633,
   "latestWkid": 32633
  }
 },
 "pixelSizeX": 0.005003458257403711,
 "pixelSizeY": 0.005003458257403718,
 "bandCount": 3,
 "pixelType": "U8",
 "minPixelSize": 0.26458386250105836,
 "maxPixelSize": 2.116670900008467,
 "copyrightText": "",
 "serviceDataType": "esriImageServiceDataTypeRGB",
 "minValues": [],
 "maxValues": [],
 "meanValues": [],
 "stdvValues": [],
 "objectIdField": "",
 "fields": [],
 "capabilities": "Image,Metadata,Catalog,Mensuration",
 "defaultMosaicMethod": "ByAttribute",
 "allowedMosaicMethods": "ByAttribute",
 "sortField": "Name",
 "sortValue": "0",
 "mosaicOperator": "First",
 "defaultCompressionQuality": 75,
 "defaultResamplingMethod": "Bilinear",
 "maxImageHeight": 4100,
 "maxImageWidth": 15000,
 "maxRecordCount": 1000,
 "maxDownloadImageCount": 40,
 "maxDownloadSizeLimit": 4096,
 "maxMosaicImageCount": 200,
 "singleFusedMapCache": true,
 "tileInfo": {
  "rows": 256,
  "cols": 256,
  "dpi": 96,
  "format": "PNG",
  "compressionQuality": 0,
  "origin": {
   "x": -5120900,
   "y": 9998100
  },
  "spatialReference": {
   "wkid": 32633,
   "latestWkid": 32633
  },
  "lods": [
   {
    "level": 0,
    "resolution": 2.116670900008467,
    "scale": 8000
   },
   {
    "level": 1,
    "resolution": 1.0583354500042335,
    "scale": 4000
   },
   {
    "level": 2,
    "resolution": 0.5291677250021167,
    "scale": 2000
   },
   {
    "level": 3,
    "resolution": 0.26458386250105836,
    "scale": 1000
   }
  ]
 },
 "allowRasterFunction": true,
 "rasterFunctionInfos": [],
 "rasterTypeInfos": [
  {
   "name": "Raster Dataset",
   "description": "Supports all ArcGIS Raster Datasets",
   "help": ""
  }
 ],
 "mensurationCapabilities": "None,Basic",
 "hasHistograms": false,
 "hasColormap": false,
 "hasRasterAttributeTable": false,
 "minScale": 8000,
 "maxScale": 1000,
 "editFieldsInfo": null,
 "ownershipBasedAccessControlForRasters": null,
 "spatialReference": {
  "wkid": 32633,
  "latestWkid": 32633
 }
}
