{
 "currentVersion": 10.11,
 "serviceDescription": "",
 "name": "BaseMaps/CartaEsposizioni",
 "description": "BaseMaps/CartaEsposizioni",
 "extent": {
  "xmin": 452878.5728418076,
  "ymin": 4393627.780037667,
  "xmax": 857642.0405075746,
  "ymax": 4683209.412400949,
  "spatialReference": {
   "wkid": 32633,
   "latestWkid": 32633
  }
 },
 "initialExtent": {
  "xmin": 452878.5728418076,
  "ymin": 4393627.780037667,
  "xmax": 857642.0405075746,
  "ymax": 4683209.412400949,
  "spatialReference": {
   "wkid": 32633,
   "latestWkid": 32633
  }
 },
 "fullExtent": {
  "xmin": 452878.5728418076,
  "ymin": 4393627.780037667,
  "xmax": 857642.0405075746,
  "ymax": 4683209.412400949,
  "spatialReference": {
   "wkid": 32633,
   "latestWkid": 32633
  }
 },
 "pixelSizeX": 32.21869518950624,
 "pixelSizeY": 32.21869518950625,
 "bandCount": 3,
 "pixelType": "U8",
 "minPixelSize": 0,
 "maxPixelSize": 0,
 "copyrightText": "",
 "serviceDataType": "esriImageServiceDataTypeRGB",
 "minValues": [],
 "maxValues": [],
 "meanValues": [],
 "stdvValues": [],
 "objectIdField": "",
 "fields": [],
 "capabilities": "Mensuration,Image,Metadata",
 "defaultMosaicMethod": "Center",
 "allowedMosaicMethods": "",
 "sortField": "",
 "sortValue": null,
 "mosaicOperator": "First",
 "defaultCompressionQuality": 75,
 "defaultResamplingMethod": "Bilinear",
 "maxImageHeight": 4100,
 "maxImageWidth": 15000,
 "allowRasterFunction": true,
 "rasterFunctionInfos": [],
 "rasterTypeInfos": [
  {
   "name": "Raster Dataset",
   "description": "Supports all ArcGIS Raster Datasets",
   "help": ""
  }
 ],
 "mensurationCapabilities": "Basic",
 "hasHistograms": false,
 "hasColormap": false,
 "hasRasterAttributeTable": false,
 "minScale": 0,
 "maxScale": 0,
 "editFieldsInfo": null,
 "ownershipBasedAccessControlForRasters": null,
 "spatialReference": {
  "wkid": 32633,
  "latestWkid": 32633
 }
}
