<?xml version="1.0" encoding="UTF-8" standalone="no"?>
<metadata xml:lang="it">
<Esri>
<CreaDate>20140904</CreaDate>
<CreaTime>09404100</CreaTime>
<ArcGISFormat>1.0</ArcGISFormat>
<SyncOnce>FALSE</SyncOnce>
<DataProperties>
<itemProps>
<itemName Sync="TRUE">Ortofoto2013</itemName>
<nativeExtBox>
<westBL Sync="TRUE">492843.872332</westBL>
<eastBL Sync="TRUE">803373.372332</eastBL>
<southBL Sync="TRUE">4409269.133704</southBL>
<northBL Sync="TRUE">4675489.633704</northBL>
<exTypeCode Sync="TRUE">1</exTypeCode>
</nativeExtBox>
</itemProps>
<coordRef>
<type Sync="TRUE">Projected</type>
<geogcsn Sync="TRUE">GCS_WGS_1984</geogcsn>
<csUnits Sync="TRUE">Linear Unit: Meter (1.000000)</csUnits>
<projcsn Sync="TRUE">WGS_1984_UTM_Zone_33N</projcsn>
<peXml Sync="TRUE">&lt;ProjectedCoordinateSystem xsi:type='typens:ProjectedCoordinateSystem' xmlns:xsi='http://www.w3.org/2001/XMLSchema-instance' xmlns:xs='http://www.w3.org/2001/XMLSchema' xmlns:typens='http://www.esri.com/schemas/ArcGIS/10.1'&gt;&lt;WKT&gt;PROJCS[&amp;quot;WGS_1984_UTM_Zone_33N&amp;quot;,GEOGCS[&amp;quot;GCS_WGS_1984&amp;quot;,DATUM[&amp;quot;D_WGS_1984&amp;quot;,SPHEROID[&amp;quot;WGS_1984&amp;quot;,6378137.0,298.257223563]],PRIMEM[&amp;quot;Greenwich&amp;quot;,0.0],UNIT[&amp;quot;Degree&amp;quot;,0.0174532925199433]],PROJECTION[&amp;quot;Transverse_Mercator&amp;quot;],PARAMETER[&amp;quot;False_Easting&amp;quot;,500000.0],PARAMETER[&amp;quot;False_Northing&amp;quot;,0.0],PARAMETER[&amp;quot;Central_Meridian&amp;quot;,15.0],PARAMETER[&amp;quot;Scale_Factor&amp;quot;,0.9996],PARAMETER[&amp;quot;Latitude_Of_Origin&amp;quot;,0.0],UNIT[&amp;quot;Meter&amp;quot;,1.0],AUTHORITY[&amp;quot;EPSG&amp;quot;,32633]]&lt;/WKT&gt;&lt;XOrigin&gt;-5120900&lt;/XOrigin&gt;&lt;YOrigin&gt;-9998100&lt;/YOrigin&gt;&lt;XYScale&gt;450445547.3910538&lt;/XYScale&gt;&lt;ZOrigin&gt;-100000&lt;/ZOrigin&gt;&lt;ZScale&gt;10000&lt;/ZScale&gt;&lt;MOrigin&gt;-100000&lt;/MOrigin&gt;&lt;MScale&gt;10000&lt;/MScale&gt;&lt;XYTolerance&gt;0.001&lt;/XYTolerance&gt;&lt;ZTolerance&gt;0.001&lt;/ZTolerance&gt;&lt;MTolerance&gt;0.001&lt;/MTolerance&gt;&lt;HighPrecision&gt;true&lt;/HighPrecision&gt;&lt;WKID&gt;32633&lt;/WKID&gt;&lt;LatestWKID&gt;32633&lt;/LatestWKID&gt;&lt;/ProjectedCoordinateSystem&gt;</peXml>
</coordRef>
<RasterProperties>
<General>
<PixelDepth Sync="TRUE">8</PixelDepth>
<HasColormap Sync="TRUE">FALSE</HasColormap>
<CompressionType Sync="TRUE">None</CompressionType>
<NumBands Sync="TRUE">3</NumBands>
<Format Sync="TRUE">AMD</Format>
<HasPyramids Sync="TRUE">TRUE</HasPyramids>
<SourceType Sync="TRUE">continuous</SourceType>
<PixelType Sync="TRUE">unsigned integer</PixelType>
<NoDataValue Sync="TRUE">
</NoDataValue>
</General>
<Properties>
<MaxImageHeight Sync="TRUE">4100</MaxImageHeight>
<MaxImageWidth Sync="TRUE">15000</MaxImageWidth>
<MaxRecordCount Sync="TRUE">1000</MaxRecordCount>
<MaxDownloadImageCount Sync="TRUE">20</MaxDownloadImageCount>
<MaxDownloadSizeLimit Sync="TRUE">4194304</MaxDownloadSizeLimit>
<MaxMosaicImageCount Sync="TRUE">20</MaxMosaicImageCount>
<DefaultCompressionQuality Sync="TRUE">75</DefaultCompressionQuality>
<DefaultCompressionTolerance Sync="TRUE">0,01</DefaultCompressionTolerance>
<BlendWidth Sync="TRUE">10</BlendWidth>
<ViewpointSpacingX Sync="TRUE">600</ViewpointSpacingX>
<ViewpointSpacingY Sync="TRUE">300</ViewpointSpacingY>
<AllowedItemMetadata Sync="TRUE">Basic</AllowedItemMetadata>
<DefaultResamplingMethod Sync="TRUE">1</DefaultResamplingMethod>
<AllowedMosaicMethods Sync="TRUE">ByAttribute</AllowedMosaicMethods>
<AllowedCompressions Sync="TRUE">None,JPEG,LZ77,LERC</AllowedCompressions>
<AllowedMensurationCapabilities Sync="TRUE">None</AllowedMensurationCapabilities>
<AvailableMensurationCapabilities Sync="TRUE">None,Basic,Base-Top Height,Top-Top Shadow Height,Base-Top Shadow Height,3D</AvailableMensurationCapabilities>
<ClipToBoundary Sync="TRUE">-1</ClipToBoundary>
<FootprintMayContainNoData Sync="TRUE">-1</FootprintMayContainNoData>
<CellSizeTolerance Sync="TRUE">0,8</CellSizeTolerance>
<MinimumPixelContribution Sync="TRUE">1</MinimumPixelContribution>
<AvailableMosaicMethods Sync="TRUE">NorthWest,Center,LockRaster,ByAttribute,Nadir,Viewpoint,Seamline,None</AvailableMosaicMethods>
<AvailableCompressionMethods Sync="TRUE">None,JPEG,LZ77,LERC</AvailableCompressionMethods>
<AvailableItemMetadataLevels Sync="TRUE">None,Basic,Full</AvailableItemMetadataLevels>
<ConfigKeyword Sync="TRUE">
</ConfigKeyword>
<BandDefinitionKeyword Sync="TRUE">NONE</BandDefinitionKeyword>
<AllowedFields Sync="TRUE">Name,MinPS,MaxPS,LowPS,HighPS,Tag,GroupName,ProductName,CenterX,CenterY,ZOrder,Shape_Length,Shape_Area,MaxPS_OLD</AllowedFields>
<MaxCellSize Sync="TRUE">80</MaxCellSize>
<LowCellSize Sync="TRUE">0,5</LowCellSize>
<HighCellSize Sync="TRUE">8</HighCellSize>
<ApplyColorCorrection Sync="TRUE">0</ApplyColorCorrection>
<TimeValueFormat Sync="TRUE">
</TimeValueFormat>
<EndTimeFieldName Sync="TRUE">
</EndTimeFieldName>
<StartTimeFieldName Sync="TRUE">
</StartTimeFieldName>
<MosaicOperator Sync="TRUE">1</MosaicOperator>
<UseTime Sync="TRUE">0</UseTime>
<SortAscending Sync="TRUE">-1</SortAscending>
<ClipToFootprint Sync="TRUE">-1</ClipToFootprint>
<SortField Sync="TRUE">ZOrder</SortField>
<SortValue Sync="TRUE">0</SortValue>
</Properties>
<Functions Sync="TRUE">
<Function Description="Performs on-the-fly mosaic on a raster catalog." Name="Mosaic Function">
</Function>
</Functions>
</RasterProperties>
</DataProperties>
<SyncDate>20140905</SyncDate>
<SyncTime>10223100</SyncTime>
<ModDate>20140905</ModDate>
<ModTime>10223100</ModTime>
<Service Sync="TRUE">BaseMaps/Ortofoto2013</Service>
<ServiceType Sync="TRUE">image</ServiceType>
</Esri>
<dataIdInfo>
<dataLang>
<languageCode Sync="TRUE" value="ita">
</languageCode>
<countryCode Sync="TRUE" value="ITA">
</countryCode>
</dataLang>
<idCitation>
<resTitle Sync="TRUE">Ortofoto2013</resTitle>
<presForm>
<PresFormCd Sync="TRUE" value="005">
</PresFormCd>
</presForm>
</idCitation>
<spatRpType>
<SpatRepTypCd Sync="TRUE" value="002">
</SpatRepTypCd>
</spatRpType>
<dataExt>
<geoEle>
<GeoBndBox esriExtentType="search">
<exTypeCode Sync="TRUE">1</exTypeCode>
<westBL Sync="TRUE">14.913277</westBL>
<eastBL Sync="TRUE">18.672850</eastBL>
<northBL Sync="TRUE">42.231587</northBL>
<southBL Sync="TRUE">39.779322</southBL>
</GeoBndBox>
</geoEle>
</dataExt>
<envirDesc Sync="FALSE">Esri ArcGIS 10.1.1.3143</envirDesc>
<idAbs>BaseMaps/Ortofoto2013</idAbs>
<idPurp/>
<idCredit/>
<resConst>
<Consts>
<useLimit/>
</Consts>
</resConst>
</dataIdInfo>
<mdLang>
<languageCode Sync="TRUE" value="ita">
</languageCode>
<countryCode Sync="TRUE" value="ITA">
</countryCode>
</mdLang>
<refSysInfo>
<RefSystem>
<refSysID>
<identCode Sync="TRUE" code="32633">
</identCode>
<idCodeSpace Sync="TRUE">EPSG</idCodeSpace>
<idVersion Sync="TRUE">7.11.2</idVersion>
</refSysID>
</RefSystem>
</refSysInfo>
<spatRepInfo>
<Georect>
<cellGeo>
<CellGeoCd Sync="TRUE" value="002">
</CellGeoCd>
</cellGeo>
<numDims Sync="TRUE">2</numDims>
<tranParaAv Sync="TRUE">1</tranParaAv>
<chkPtAv Sync="TRUE">0</chkPtAv>
<cornerPts>
<pos Sync="TRUE">492843.872332 4409269.133704</pos>
</cornerPts>
<cornerPts>
<pos Sync="TRUE">492843.872332 4675489.633704</pos>
</cornerPts>
<cornerPts>
<pos Sync="TRUE">803373.372332 4675489.633704</pos>
</cornerPts>
<cornerPts>
<pos Sync="TRUE">803373.372332 4409269.133704</pos>
</cornerPts>
<centerPt>
<pos Sync="TRUE">648108.622332 4542379.383704</pos>
</centerPt>
<axisDimension type="002">
<dimSize Sync="TRUE">621059</dimSize>
<dimResol>
<value Sync="TRUE" uom="Meter">0.500000</value>
</dimResol>
</axisDimension>
<axisDimension type="001">
<dimSize Sync="TRUE">532441</dimSize>
<dimResol>
<value Sync="TRUE" uom="Meter">0.500000</value>
</dimResol>
</axisDimension>
<ptInPixel>
<PixOrientCd Sync="TRUE" value="001">
</PixOrientCd>
</ptInPixel>
</Georect>
</spatRepInfo>
<contInfo>
<ImgDesc>
<contentTyp>
<ContentTypCd Sync="TRUE" value="001">
</ContentTypCd>
</contentTyp>
<covDim>
<Band>
<dimDescrp Sync="TRUE">Band_1</dimDescrp>
<bitsPerVal Sync="TRUE">8</bitsPerVal>
<valUnit>
<UOM type="length">
</UOM>
</valUnit>
</Band>
<Band>
<dimDescrp Sync="TRUE">Band_2</dimDescrp>
<bitsPerVal Sync="TRUE">8</bitsPerVal>
<valUnit>
<UOM type="length">
</UOM>
</valUnit>
</Band>
<Band>
<dimDescrp Sync="TRUE">Band_3</dimDescrp>
<bitsPerVal Sync="TRUE">8</bitsPerVal>
<valUnit>
<UOM type="length">
</UOM>
</valUnit>
</Band>
</covDim>
</ImgDesc>
</contInfo>
<mdDateSt Sync="TRUE">20140905</mdDateSt>
<idinfo>
<citation>
<citeinfo>
<origin>
</origin>
</citeinfo>
</citation>
<descript>
<abstract>BaseMaps/Ortofoto2013</abstract>
</descript>
</idinfo>
<eainfo>
<detailed Name="AMD_Ortofoto2013_CAT">
<enttyp>
<enttypl Sync="TRUE">AMD_Ortofoto2013_CAT</enttypl>
<enttypt Sync="TRUE">Feature Class</enttypt>
<enttypc Sync="TRUE">23</enttypc>
</enttyp>
<attr>
<attrlabl Sync="TRUE">OBJECTID</attrlabl>
<attalias Sync="TRUE">OBJECTID</attalias>
<attrtype Sync="TRUE">OID</attrtype>
<attwidth Sync="TRUE">4</attwidth>
<atprecis Sync="TRUE">0</atprecis>
<attscale Sync="TRUE">0</attscale>
<attrdef Sync="TRUE">Internal feature number.</attrdef>
<attrdefs Sync="TRUE">Esri</attrdefs>
<attrdomv>
<udom Sync="TRUE">Sequential unique whole numbers that are automatically generated.</udom>
</attrdomv>
</attr>
<attr>
<attrlabl Sync="TRUE">Shape</attrlabl>
<attalias Sync="TRUE">Shape</attalias>
<attrtype Sync="TRUE">Geometry</attrtype>
<attwidth Sync="TRUE">0</attwidth>
<atprecis Sync="TRUE">0</atprecis>
<attscale Sync="TRUE">0</attscale>
<attrdef Sync="TRUE">Feature geometry.</attrdef>
<attrdefs Sync="TRUE">Esri</attrdefs>
<attrdomv>
<udom Sync="TRUE">Coordinates defining the features.</udom>
</attrdomv>
</attr>
<attr>
<attrlabl Sync="TRUE">Raster</attrlabl>
<attalias Sync="TRUE">Raster</attalias>
<attrtype Sync="TRUE">Raster</attrtype>
<attwidth Sync="TRUE">0</attwidth>
<atprecis Sync="TRUE">0</atprecis>
<attscale Sync="TRUE">0</attscale>
</attr>
<attr>
<attrlabl Sync="TRUE">Name</attrlabl>
<attalias Sync="TRUE">Name</attalias>
<attrtype Sync="TRUE">String</attrtype>
<attwidth Sync="TRUE">50</attwidth>
<atprecis Sync="TRUE">0</atprecis>
<attscale Sync="TRUE">0</attscale>
</attr>
<attr>
<attrlabl Sync="TRUE">MinPS</attrlabl>
<attalias Sync="TRUE">MinPS</attalias>
<attrtype Sync="TRUE">Double</attrtype>
<attwidth Sync="TRUE">8</attwidth>
<atprecis Sync="TRUE">0</atprecis>
<attscale Sync="TRUE">0</attscale>
</attr>
<attr>
<attrlabl Sync="TRUE">MaxPS</attrlabl>
<attalias Sync="TRUE">MaxPS</attalias>
<attrtype Sync="TRUE">Double</attrtype>
<attwidth Sync="TRUE">8</attwidth>
<atprecis Sync="TRUE">0</atprecis>
<attscale Sync="TRUE">0</attscale>
</attr>
<attr>
<attrlabl Sync="TRUE">LowPS</attrlabl>
<attalias Sync="TRUE">LowPS</attalias>
<attrtype Sync="TRUE">Double</attrtype>
<attwidth Sync="TRUE">8</attwidth>
<atprecis Sync="TRUE">0</atprecis>
<attscale Sync="TRUE">0</attscale>
</attr>
<attr>
<attrlabl Sync="TRUE">HighPS</attrlabl>
<attalias Sync="TRUE">HighPS</attalias>
<attrtype Sync="TRUE">Double</attrtype>
<attwidth Sync="TRUE">8</attwidth>
<atprecis Sync="TRUE">0</atprecis>
<attscale Sync="TRUE">0</attscale>
</attr>
<attr>
<attrlabl Sync="TRUE">Category</attrlabl>
<attalias Sync="TRUE">Category</attalias>
<attrtype Sync="TRUE">Integer</attrtype>
<attwidth Sync="TRUE">4</attwidth>
<atprecis Sync="TRUE">0</atprecis>
<attscale Sync="TRUE">0</attscale>
</attr>
<attr>
<attrlabl Sync="TRUE">Tag</attrlabl>
<attalias Sync="TRUE">Tag</attalias>
<attrtype Sync="TRUE">String</attrtype>
<attwidth Sync="TRUE">20</attwidth>
<atprecis Sync="TRUE">0</atprecis>
<attscale Sync="TRUE">0</attscale>
</attr>
<attr>
<attrlabl Sync="TRUE">GroupName</attrlabl>
<attalias Sync="TRUE">GroupName</attalias>
<attrtype Sync="TRUE">String</attrtype>
<attwidth Sync="TRUE">50</attwidth>
<atprecis Sync="TRUE">0</atprecis>
<attscale Sync="TRUE">0</attscale>
</attr>
<attr>
<attrlabl Sync="TRUE">ProductName</attrlabl>
<attalias Sync="TRUE">ProductName</attalias>
<attrtype Sync="TRUE">String</attrtype>
<attwidth Sync="TRUE">50</attwidth>
<atprecis Sync="TRUE">0</atprecis>
<attscale Sync="TRUE">0</attscale>
</attr>
<attr>
<attrlabl Sync="TRUE">CenterX</attrlabl>
<attalias Sync="TRUE">CenterX</attalias>
<attrtype Sync="TRUE">Double</attrtype>
<attwidth Sync="TRUE">8</attwidth>
<atprecis Sync="TRUE">0</atprecis>
<attscale Sync="TRUE">0</attscale>
</attr>
<attr>
<attrlabl Sync="TRUE">CenterY</attrlabl>
<attalias Sync="TRUE">CenterY</attalias>
<attrtype Sync="TRUE">Double</attrtype>
<attwidth Sync="TRUE">8</attwidth>
<atprecis Sync="TRUE">0</atprecis>
<attscale Sync="TRUE">0</attscale>
</attr>
<attr>
<attrlabl Sync="TRUE">ZOrder</attrlabl>
<attalias Sync="TRUE">ZOrder</attalias>
<attrtype Sync="TRUE">Integer</attrtype>
<attwidth Sync="TRUE">4</attwidth>
<atprecis Sync="TRUE">0</atprecis>
<attscale Sync="TRUE">0</attscale>
</attr>
<attr>
<attrlabl Sync="TRUE">TypeID</attrlabl>
<attalias Sync="TRUE">Raster Type ID</attalias>
<attrtype Sync="TRUE">Integer</attrtype>
<attwidth Sync="TRUE">4</attwidth>
<atprecis Sync="TRUE">0</atprecis>
<attscale Sync="TRUE">0</attscale>
</attr>
<attr>
<attrlabl Sync="TRUE">ItemTS</attrlabl>
<attalias Sync="TRUE">ItemTS</attalias>
<attrtype Sync="TRUE">Double</attrtype>
<attwidth Sync="TRUE">8</attwidth>
<atprecis Sync="TRUE">0</atprecis>
<attscale Sync="TRUE">0</attscale>
</attr>
<attr>
<attrlabl Sync="TRUE">UriHash</attrlabl>
<attalias Sync="TRUE">UriHash</attalias>
<attrtype Sync="TRUE">String</attrtype>
<attwidth Sync="TRUE">50</attwidth>
<atprecis Sync="TRUE">0</atprecis>
<attscale Sync="TRUE">0</attscale>
</attr>
<attr>
<attrlabl Sync="TRUE">Uri</attrlabl>
<attalias Sync="TRUE">Uri</attalias>
<attrtype Sync="TRUE">Blob</attrtype>
<attwidth Sync="TRUE">0</attwidth>
<atprecis Sync="TRUE">0</atprecis>
<attscale Sync="TRUE">0</attscale>
</attr>
<attr>
<attrlabl Sync="TRUE">Shape_Length</attrlabl>
<attalias Sync="TRUE">Shape_Length</attalias>
<attrtype Sync="TRUE">Double</attrtype>
<attwidth Sync="TRUE">8</attwidth>
<atprecis Sync="TRUE">0</atprecis>
<attscale Sync="TRUE">0</attscale>
<attrdef Sync="TRUE">Length of feature in internal units.</attrdef>
<attrdefs Sync="TRUE">Esri</attrdefs>
<attrdomv>
<udom Sync="TRUE">Positive real numbers that are automatically generated.</udom>
</attrdomv>
</attr>
<attr>
<attrlabl Sync="TRUE">Shape_Area</attrlabl>
<attalias Sync="TRUE">Shape_Area</attalias>
<attrtype Sync="TRUE">Double</attrtype>
<attwidth Sync="TRUE">8</attwidth>
<atprecis Sync="TRUE">0</atprecis>
<attscale Sync="TRUE">0</attscale>
<attrdef Sync="TRUE">Area of feature in internal units squared.</attrdef>
<attrdefs Sync="TRUE">Esri</attrdefs>
<attrdomv>
<udom Sync="TRUE">Positive real numbers that are automatically generated.</udom>
</attrdomv>
</attr>
<attr>
<attrlabl Sync="TRUE">MaxPS_OLD</attrlabl>
<attalias Sync="TRUE">MaxPS_OLD</attalias>
<attrtype Sync="TRUE">Double</attrtype>
<attwidth Sync="TRUE">8</attwidth>
<atprecis Sync="TRUE">0</atprecis>
<attscale Sync="TRUE">0</attscale>
</attr>
</detailed>
</eainfo>
</metadata>
