{
 "currentVersion": 10.11,
 "serviceDescription": "",
 "name": "BaseMaps/Ortofoto2015_IR",
 "description": "BaseMaps/Ortofoto2015_IR",
 "extent": {
  "xmin": 642429.4763474753,
  "ymin": 4409258.677993127,
  "xmax": 801902.2289837102,
  "ymax": 4530406.322254905,
  "spatialReference": {
   "wkid": 32633,
   "latestWkid": 32633
  }
 },
 "initialExtent": {
  "xmin": 642429.4763474753,
  "ymin": 4409258.677993127,
  "xmax": 801902.2289837102,
  "ymax": 4530406.322254905,
  "spatialReference": {
   "wkid": 32633,
   "latestWkid": 32633
  }
 },
 "fullExtent": {
  "xmin": 642429.4763474753,
  "ymin": 4409258.677993127,
  "xmax": 801902.2289837102,
  "ymax": 4530406.322254905,
  "spatialReference": {
   "wkid": 32633,
   "latestWkid": 32633
  }
 },
 "pixelSizeX": 0.14999925000374814,
 "pixelSizeY": 0.1499992500037484,
 "bandCount": 3,
 "pixelType": "U8",
 "minPixelSize": 0,
 "maxPixelSize": 0,
 "copyrightText": "",
 "serviceDataType": "esriImageServiceDataTypeRGB",
 "minValues": [],
 "maxValues": [],
 "meanValues": [],
 "stdvValues": [],
 "objectIdField": "",
 "fields": [],
 "capabilities": "Mensuration,Image,Metadata",
 "defaultMosaicMethod": "Center",
 "allowedMosaicMethods": "",
 "sortField": "",
 "sortValue": null,
 "mosaicOperator": "First",
 "defaultCompressionQuality": 75,
 "defaultResamplingMethod": "Bilinear",
 "maxImageHeight": 4100,
 "maxImageWidth": 15000,
 "allowRasterFunction": true,
 "rasterFunctionInfos": [],
 "rasterTypeInfos": [
  {
   "name": "Raster Dataset",
   "description": "Supports all ArcGIS Raster Datasets",
   "help": ""
  }
 ],
 "mensurationCapabilities": "Basic",
 "hasHistograms": false,
 "hasColormap": false,
 "hasRasterAttributeTable": false,
 "minScale": 0,
 "maxScale": 0,
 "editFieldsInfo": null,
 "ownershipBasedAccessControlForRasters": null,
 "spatialReference": {
  "wkid": 32633,
  "latestWkid": 32633
 }
}
