{
 "currentVersion": 10.11,
 "serviceDescription": "Ortofoto 2022 concessa in riuso da AGEA alla Regione Puglia attraverso specifica convenzione",
 "name": "BaseMaps/Ortofoto2022",
 "description": "Ortofoto 2022 concessa in riuso da AGEA alla Regione Puglia attraverso specifica convenzione",
 "extent": {
  "xmin": 412252.20000000123,
  "ymin": 4394416.600000003,
  "xmax": 882587.7999999949,
  "ymax": 4689070.399999999,
  "spatialReference": {
   "wkid": 32633,
   "latestWkid": 32633
  }
 },
 "initialExtent": {
  "xmin": 412252.20000000123,
  "ymin": 4394416.600000003,
  "xmax": 882587.7999999949,
  "ymax": 4689070.399999999,
  "spatialReference": {
   "wkid": 32633,
   "latestWkid": 32633
  }
 },
 "fullExtent": {
  "xmin": 412252.20000000123,
  "ymin": 4394416.600000003,
  "xmax": 882587.7999999949,
  "ymax": 4689070.399999999,
  "spatialReference": {
   "wkid": 32633,
   "latestWkid": 32633
  }
 },
 "pixelSizeX": 0.19999999999999732,
 "pixelSizeY": 0.19999999999999735,
 "bandCount": 3,
 "pixelType": "U8",
 "minPixelSize": 0,
 "maxPixelSize": 0,
 "copyrightText": "",
 "serviceDataType": "esriImageServiceDataTypeRGB",
 "minValues": [],
 "maxValues": [],
 "meanValues": [],
 "stdvValues": [],
 "objectIdField": "",
 "fields": [],
 "capabilities": "Image,Metadata,Mensuration",
 "defaultMosaicMethod": "Center",
 "allowedMosaicMethods": "",
 "sortField": "",
 "sortValue": null,
 "mosaicOperator": "First",
 "defaultCompressionQuality": 75,
 "defaultResamplingMethod": "Bilinear",
 "maxImageHeight": 4100,
 "maxImageWidth": 15000,
 "allowRasterFunction": true,
 "rasterFunctionInfos": [],
 "rasterTypeInfos": [
  {
   "name": "Raster Dataset",
   "description": "Supports all ArcGIS Raster Datasets",
   "help": ""
  }
 ],
 "mensurationCapabilities": "Basic",
 "hasHistograms": false,
 "hasColormap": false,
 "hasRasterAttributeTable": false,
 "minScale": 0,
 "maxScale": 0,
 "editFieldsInfo": null,
 "ownershipBasedAccessControlForRasters": null,
 "spatialReference": {
  "wkid": 32633,
  "latestWkid": 32633
 }
}
