View In:
ArcGIS JavaScript
ArcGIS.com Map
Google Earth
ArcMap
View Footprint In:
ArcGIS.com Map
Service Description: Ortofoto 2019 concessa in riuso da AGEA
Name: BaseMaps/Ortofoto2019
Description: Ortofoto 2019 concessa in riuso da AGEA
Single Fused Map Cache: true
Tile Info:
- Height: 256
- Width: 256
- DPI: 96
-
Levels of Detail: 13
- Format: JPEG
- Compression Quality: 75.0
- Origin: X: -5120900.0
Y: 9998100.0
- Spatial Reference: 32633
(32633)
Extent:
XMin: 407479.6000006376
YMin: 4396493.399884502
XMax: 887014.00000063
YMax: 4688466.399884498
Spatial Reference: 32633
(32633)
Initial Extent:
XMin: 407479.6000006376
YMin: 4396493.399884502
XMax: 887014.00000063
YMax: 4688466.399884498
Spatial Reference: 32633
(32633)
Full Extent:
XMin: 407479.6000006376
YMin: 4396493.399884502
XMax: 887014.00000063
YMax: 4688466.399884498
Spatial Reference: 32633
(32633)
Pixel Size X: 0.19999999999999685
Pixel Size Y: 0.19999999999999682
Band Count: 3
Pixel Type: U8
RasterFunction Infos: N/A
Mensuration Capabilities: Basic
Has Histograms: false
Has Colormap: false
Min Scale: 4000000
Max Scale: 1000
Copyright Text:
Service Data Type: esriImageServiceDataTypeRGB
Min Values: N/A
Max Values: N/A
Mean Values: N/A
Standard Deviation Values: N/A
Object ID Field:
Fields:
None
Raster Attribute Table: false
Default Mosaic Method: Center
Allowed Mosaic Methods:
SortField:
SortValue: null
Mosaic Operator: First
Default Compression Quality: 75
Default Resampling Method: Bilinear
Max Record Count: null
Max Image Height: 4100
Max Image Width: 15000
Max Download Image Count: null
Max Mosaic Image Count: null
Allow Raster Function: true
Raster Type Infos:
Name: Raster Dataset
Description: Supports all ArcGIS Raster Datasets
Help:
Has Raster Attribute Table: false
Edit Fields Info: null
Ownership Based AccessControl For Rasters: null
Child Resources:
Info
Key Properties
Supported Operations:
Export Image
Identify
Measure
Compute Histograms