View In:
ArcGIS JavaScript
ArcGIS.com Map
Google Earth
ArcMap
View Footprint In:
ArcGIS.com Map
Service Description:
Name: BaseMaps/PuttGeomorfologico
Description: BaseMaps/PuttGeomorfologico
Single Fused Map Cache: false
Extent:
XMin: 472064.423
YMin: 4409509.498000001
XMax: 813874.9399999995
YMax: 4666469.53
Spatial Reference: 32633
(32633)
Initial Extent:
XMin: 472064.423
YMin: 4409509.498000001
XMax: 813874.9399999995
YMax: 4666469.53
Spatial Reference: 32633
(32633)
Full Extent:
XMin: 472064.423
YMin: 4409509.498000001
XMax: 813874.9399999995
YMax: 4666469.53
Spatial Reference: 32633
(32633)
Pixel Size X: 4.232999999999993
Pixel Size Y: 4.232999999999994
Band Count: 3
Pixel Type: U8
RasterFunction Infos: N/A
Mensuration Capabilities: Basic
Has Histograms: false
Has Colormap: false
Min Scale: 0
Max Scale: 0
Copyright Text:
Service Data Type: esriImageServiceDataTypeRGB
Min Values: N/A
Max Values: N/A
Mean Values: N/A
Standard Deviation Values: N/A
Object ID Field:
Fields:
None
Raster Attribute Table: false
Default Mosaic Method: Center
Allowed Mosaic Methods:
SortField:
SortValue: null
Mosaic Operator: First
Default Compression Quality: 75
Default Resampling Method: Bilinear
Max Record Count: null
Max Image Height: 4100
Max Image Width: 15000
Max Download Image Count: null
Max Mosaic Image Count: null
Allow Raster Function: true
Raster Type Infos:
Name: Raster Dataset
Description: Supports all ArcGIS Raster Datasets
Help:
Has Raster Attribute Table: false
Edit Fields Info: null
Ownership Based AccessControl For Rasters: null
Child Resources:
Info
Key Properties
Supported Operations:
Export Image
Identify
Measure
Compute Histograms