View In:
ArcGIS JavaScript
ArcGIS.com Map
Google Earth
ArcMap
View Footprint In:
ArcGIS.com Map
Service Description:
Name: BaseMaps/UnitaGiacimentologiche
Description: BaseMaps/UnitaGiacimentologiche
Single Fused Map Cache: false
Extent:
XMin: 477711.37003
YMin: 4357755.853977841
XMax: 815447.6367405083
YMax: 4696839.415022158
Spatial Reference: 32633
(32633)
Initial Extent:
XMin: 477711.37003
YMin: 4357755.853977841
XMax: 815447.6367405083
YMax: 4696839.415022158
Spatial Reference: 32633
(32633)
Full Extent:
XMin: 477711.37003
YMin: 4357755.853977841
XMax: 815447.6367405083
YMax: 4696839.415022158
Spatial Reference: 32633
(32633)
Pixel Size X: 14.48703584740309
Pixel Size Y: 14.48703584740309
Band Count: 3
Pixel Type: U8
RasterFunction Infos: N/A
Mensuration Capabilities: Basic
Has Histograms: false
Has Colormap: false
Min Scale: 0
Max Scale: 0
Copyright Text:
Service Data Type: esriImageServiceDataTypeRGB
Min Values: N/A
Max Values: N/A
Mean Values: N/A
Standard Deviation Values: N/A
Object ID Field:
Fields:
None
Raster Attribute Table: false
Default Mosaic Method: Center
Allowed Mosaic Methods:
SortField:
SortValue: null
Mosaic Operator: First
Default Compression Quality: 75
Default Resampling Method: Bilinear
Max Record Count: null
Max Image Height: 4100
Max Image Width: 15000
Max Download Image Count: null
Max Mosaic Image Count: null
Allow Raster Function: true
Raster Type Infos:
Name: Raster Dataset
Description: Supports all ArcGIS Raster Datasets
Help:
Has Raster Attribute Table: false
Edit Fields Info: null
Ownership Based AccessControl For Rasters: null
Child Resources:
Info
Key Properties
Supported Operations:
Export Image
Identify
Measure
Compute Histograms