View In:
ArcGIS JavaScript
ArcGIS.com Map
Google Earth
ArcMap
View Footprint In:
ArcGIS.com Map
Service Description: Background/CatastoImpianto
Name: Background/CatastoImpianto
Description: Background/CatastoImpianto
Single Fused Map Cache: true
Tile Info:
- Height: 256
- Width: 256
- DPI: 96
-
Levels of Detail: 4
- Format: PNG
- Compression Quality: 0.0
- Origin: X: -5120900.0
Y: 9998100.0
- Spatial Reference: 32633
(32633)
Extent:
XMin: 494382.83364768786
YMin: 4409764.91267182
XMax: 800070.7019800352
YMax: 4683797.957030918
Spatial Reference: 32633
(32633)
Initial Extent:
XMin: 494382.83364768786
YMin: 4409764.91267182
XMax: 800070.7019800352
YMax: 4683797.957030918
Spatial Reference: 32633
(32633)
Full Extent:
XMin: 494382.83364768786
YMin: 4409764.91267182
XMax: 800070.7019800352
YMax: 4683797.957030918
Spatial Reference: 32633
(32633)
Pixel Size X: 0.005003458257403711
Pixel Size Y: 0.005003458257403718
Band Count: 3
Pixel Type: U8
RasterFunction Infos: N/A
Mensuration Capabilities: None,Basic
Has Histograms: false
Has Colormap: false
Min Scale: 8000
Max Scale: 1000
Copyright Text:
Service Data Type: esriImageServiceDataTypeRGB
Min Values: N/A
Max Values: N/A
Mean Values: N/A
Standard Deviation Values: N/A
Object ID Field:
Fields:
None
Raster Attribute Table: false
Default Mosaic Method: ByAttribute
Allowed Mosaic Methods: ByAttribute
SortField: Name
SortValue: 0
Mosaic Operator: First
Default Compression Quality: 75
Default Resampling Method: Bilinear
Max Record Count: 1000
Max Image Height: 4100
Max Image Width: 15000
Max Download Image Count: 40
Max Mosaic Image Count: 200
Allow Raster Function: true
Raster Type Infos:
Name: Raster Dataset
Description: Supports all ArcGIS Raster Datasets
Help:
Has Raster Attribute Table: false
Edit Fields Info: null
Ownership Based AccessControl For Rasters: null
Child Resources:
Info
Key Properties
Supported Operations:
Export Image
Query
Identify
Measure
Compute Histograms