View In:
ArcGIS JavaScript
ArcGIS.com Map
Google Earth
ArcMap
View Footprint In:
ArcGIS.com Map
Service Description: Ortofoto 2022 concessa in riuso da AGEA alla Regione Puglia attraverso specifica convenzione
Name: BaseMaps/Ortofoto2022
Description: Ortofoto 2022 concessa in riuso da AGEA alla Regione Puglia attraverso specifica convenzione
Single Fused Map Cache: false
Extent:
XMin: 412252.20000000123
YMin: 4394416.600000003
XMax: 882587.7999999949
YMax: 4689070.399999999
Spatial Reference: 32633
(32633)
Initial Extent:
XMin: 412252.20000000123
YMin: 4394416.600000003
XMax: 882587.7999999949
YMax: 4689070.399999999
Spatial Reference: 32633
(32633)
Full Extent:
XMin: 412252.20000000123
YMin: 4394416.600000003
XMax: 882587.7999999949
YMax: 4689070.399999999
Spatial Reference: 32633
(32633)
Pixel Size X: 0.19999999999999732
Pixel Size Y: 0.19999999999999735
Band Count: 3
Pixel Type: U8
RasterFunction Infos: N/A
Mensuration Capabilities: Basic
Has Histograms: false
Has Colormap: false
Min Scale: 0
Max Scale: 0
Copyright Text:
Service Data Type: esriImageServiceDataTypeRGB
Min Values: N/A
Max Values: N/A
Mean Values: N/A
Standard Deviation Values: N/A
Object ID Field:
Fields:
None
Raster Attribute Table: false
Default Mosaic Method: Center
Allowed Mosaic Methods:
SortField:
SortValue: null
Mosaic Operator: First
Default Compression Quality: 75
Default Resampling Method: Bilinear
Max Record Count: null
Max Image Height: 4100
Max Image Width: 15000
Max Download Image Count: null
Max Mosaic Image Count: null
Allow Raster Function: true
Raster Type Infos:
Name: Raster Dataset
Description: Supports all ArcGIS Raster Datasets
Help:
Has Raster Attribute Table: false
Edit Fields Info: null
Ownership Based AccessControl For Rasters: null
Child Resources:
Info
Key Properties
Supported Operations:
Export Image
Identify
Measure
Compute Histograms